BEGIN:VCALENDAR
VERSION:2.0
PRODID:-//Rullians Trafikskola - ECPv6.15.20//NONSGML v1.0//EN
CALSCALE:GREGORIAN
METHOD:PUBLISH
X-ORIGINAL-URL:https://rullianstrafikskola.se
X-WR-CALDESC:Händelser för Rullians Trafikskola
REFRESH-INTERVAL;VALUE=DURATION:PT1H
X-Robots-Tag:noindex
X-PUBLISHED-TTL:PT1H
BEGIN:VTIMEZONE
TZID:UTC
BEGIN:STANDARD
TZOFFSETFROM:+0000
TZOFFSETTO:+0000
TZNAME:UTC
DTSTART:20250101T000000
END:STANDARD
END:VTIMEZONE
BEGIN:VEVENT
DTSTART;VALUE=DATE:20260416
DTEND;VALUE=DATE:20260417
DTSTAMP:20260421T172103
CREATED:20241217T131806Z
LAST-MODIFIED:20260401T132424Z
UID:1322-1776297600-1776383999@rullianstrafikskola.se
SUMMARY:Handledarkurs
DESCRIPTION:Kontakta oss via Mail\, sms eller samtal för inskrivning. \n  \n  \nIntroduktionsutbildning / Handledarutbildning. \nSamling på ovan datum\, tid meddelas via sms till alla inskrivna. \nHandledarkursen behöver du och din handledare genomföra för att kunna övningsköra privat. Kursen är på 3 timmar. \n  \n\n\n\n\nSyfte\nIntroduktionsutbildningen ska med Nollvisionen som grund ge blivande handledare och elevvägledning inför den privata övningskörningen. Den ska därigenom bidra till en effektiv körkortsutbildning samt främja trafiksäkerheten och miljön såväl under som efter körkortsutbildningen. \n \n\n\n\nMål\nEfter utbildningen ska blivande handledare och elev ha fått information om körkortsutbildningens mål och innehåll. De ska också ha fått information om regler för övningskörning\, planering och strukturering av den privata mängdträningen\, samt för trafiksäkerheten och miljön viktiga faktorer i sammanhanget. \n \n\n\n\n  \nIntroduktionsutbildning för övningskörning med personbil\nNi som ska övningsköra privat för personbil och lätt lastbil (behörighet B) behöver gå en introduktionsutbildning innan ni kan börja övningsköra. Utbildningen behöver vara giltig för att vi ska kunna godkänna en ansökan om handledarskap. \nDen som ska vara handledare behöver gå en introduktionsutbildning (ibland kallad handledarutbildning) innan vi kan behandla ansökan om att få vara handledare. Även eleven måste ha gått en sådan introduktionsutbildning. \nDet är samma introduktionsutbildning för den som ska vara handledare och för eleven\, men de behöver inte gå vid samma tillfälle. Det räcker att handledaren har gått utbildningen en gång\, även om hen ska ha flera elever. \n  \nIntroduktionsutbildningen gäller i fem år från den dag utbildningen genomfördes\, både för handledaren och för eleven. \nEleven måste vara minst 15 år och 9 månader för att få gå utbildningen. \n  \nDen elev som övningskör måste ha en giltig introduktionsutbildning under hela den tid som övningskörningen pågår. \nKom ihåg att man också måste ansöka om handledarskap efter utbildningen. Observera att du måste vara godkänd som handledare för varje enskild elev som du ska övningsköra med. Du måste därför göra en ansökan för varje elev\, om du ska övningsköra med flera elever. \n 
URL:https://rullianstrafikskola.se/event/handledarkurs/
END:VEVENT
BEGIN:VEVENT
DTSTART;VALUE=DATE:20260423
DTEND;VALUE=DATE:20260424
DTSTAMP:20260421T172103
CREATED:20241115T174300Z
LAST-MODIFIED:20260416T110447Z
UID:1329-1776902400-1776988799@rullianstrafikskola.se
SUMMARY:Riskutbildning 1
DESCRIPTION:Kontakta oss via Mail\, sms eller samtal för inskrivning. \n  \n  \nAlkohol och drog utbildning \nSamling på ovan datum\, tid meddelas via sms till alla inskrivna.  \nUnder riskettan får du lära dig om riskerna med bland annat alkohol\, droger och trötthet i trafiken. \n\n\n\n\nSyfte\nUtbildningen syftar till att ge eleven kunskap och insikt om hur alkohol\, andra droger och trötthet samt andra beteenden och faktorer kan påverka körförmågan. Eleven ska även få kunskap och insikt om vilka konsekvenserna kan bli samt vad som ökar riskerna och hur de kan undvikas. \n \n\n\n\nMål\nEleven ska efter genomgången utbildning inse betydelsen av att ta avstånd från alkohol och andra droger i samband med körning samt vikten av att vara utvilad och koncentrerad som förare. \n\nRiskutbildning för personbil\nDu måste göra en riskutbildning innan du gör kunskaps- och körprovet för behörighet B. Utbildningen består av två delar: \n\nDel 1 handlar om alkohol och droger\, trötthet i trafiken och andra riskfyllda      beteenden.\nDel 2 handlar bland annat om hastighet\, säkerhet och körning vid olika väg- och väderförhållanden. Halkbana ingår i den här delen.\n\nRiskutbildningen gäller till den dag du tar ditt körkort eller i högst fem år. Tänk på att utbildningen för motorcykel inte gäller för personbil. \nDen som håller utbildningen rapporterar in att du har gjort riskutbildningen.
URL:https://rullianstrafikskola.se/event/riskutbildning-1/
END:VEVENT
BEGIN:VEVENT
DTSTART;VALUE=DATE:20260425
DTEND;VALUE=DATE:20260426
DTSTAMP:20260421T172103
CREATED:20241115T181559Z
LAST-MODIFIED:20260421T134339Z
UID:1340-1777075200-1777161599@rullianstrafikskola.se
SUMMARY:Truckutbildning
DESCRIPTION:Truckutbildning \nSamling på ovan datum KL : 11.30 Kurstid : Tills klart \nVi håller truckutbildning i Helsingborg.\nVi erbjuder kompletta truckutbildningar för alla typer av truckar. Vi är certifierade och godkända. \n  \nFöljande truckbehörigheter uppnås efter utbildningen \n  \nA-truckar (Truckkort A) \nA1 Låglyftande plocktruck\nA2 Ledstaplare\nA3 Låglyftande åktruck\nA4 Låglyftare \nB-truckar (Truckkort B) \nB1 Motviktstruck\nB2 Höglyftande åkstaplare\nB3 Skjutstavtruck\nB4 Höglyftande plocktruck\nB5 Smalgångstruck\nB6 Fyrvägstruck
URL:https://rullianstrafikskola.se/event/truckutbildning/
END:VEVENT
BEGIN:VEVENT
DTSTART;VALUE=DATE:20260503
DTEND;VALUE=DATE:20260504
DTSTAMP:20260421T172103
CREATED:20241115T174517Z
LAST-MODIFIED:20260421T134401Z
UID:1331-1777766400-1777852799@rullianstrafikskola.se
SUMMARY:Riskutbildning 2
DESCRIPTION:Riskutbildning 2/Halkkörning \nSamling på ovan datum\, tid meddelas via sms till alla inskrivna.  \n\n\nRiskutbildning 2 (kallas också Risktvåan eller Halkbanan) är en praktisk utbildning som utförs på halkbanan. Ute på halkbanan får du lära dig hur du själv reagerar i en kritisk situation och vilka möjligheter du har att påverka utgången av den. Kom ihåg! Det är inget prov utan en riskupplevelse där du får göra misstag. \n\n\n\n\nFör bokning\, kontakta oss via mail\, sms eller telefon. \nDu kan även lägga en beställning på hemsidan\, du kommer då bli kontaktad för bokning.
URL:https://rullianstrafikskola.se/event/riskutbildning-2mer-information/
END:VEVENT
END:VCALENDAR